BEGIN:VCALENDAR
VERSION:2.0
PRODID:-//Runner&#039;s World - ECPv6.15.20//NONSGML v1.0//EN
CALSCALE:GREGORIAN
METHOD:PUBLISH
X-ORIGINAL-URL:https://www.runnersworld.co.za
X-WR-CALDESC:Events for Runner&#039;s World
REFRESH-INTERVAL;VALUE=DURATION:PT1H
X-Robots-Tag:noindex
X-PUBLISHED-TTL:PT1H
BEGIN:VTIMEZONE
TZID:Africa/Johannesburg
BEGIN:STANDARD
TZOFFSETFROM:+0200
TZOFFSETTO:+0200
TZNAME:SAST
DTSTART:20240101T000000
END:STANDARD
END:VTIMEZONE
BEGIN:VEVENT
DTSTART;TZID=Africa/Johannesburg:20251016T080000
DTEND;TZID=Africa/Johannesburg:20251019T170000
DTSTAMP:20260423T014411
CREATED:20241023T081720Z
LAST-MODIFIED:20241023T081720Z
UID:10002410-1760601600-1760893200@www.runnersworld.co.za
SUMMARY:Cederberg Traverse 2025
DESCRIPTION:Run\, Stumble and Crawl through the Iconic Cederberg Wilderness\, set against dramatic mountains and fiery red rock formations. This is a weekend adventure to enjoy in the mountains with friends and family. \nAll races Start and Finish at Race Base – Sanddrif \n100 miler – 100km route plus the 50km Night run route \n100km – The original\, tough and gnarly mountain run\, you will see stars! \n60km – Starting and finishing at Sanddrif\, this is the day run option. Cracks\, Arch\, Cross and a lot of rocks. \n50km – Night Run\, similar to the 60km\, starting and finishing at Sanddrif. \nFor more information and to enter\, click here
URL:https://www.runnersworld.co.za/event/cederberg-traverse-2025/
LOCATION:Sanddrift Campsite\, Sanddrif Campsite\, Dwarsrivier\, Cederberg\, Clanwilliam\, Western Cape\, Western Cape\, 8135\, South Africa
CATEGORIES:Fun Run,Night Run,Stage Race,Trail
ATTACH;FMTTYPE=image/jpeg:https://www.runnersworld.co.za/wp-content/uploads/2024/10/energy.jpg
ORGANIZER;CN="Energy Events":MAILTO:info@energyevents.co.za
END:VEVENT
END:VCALENDAR